Workbook
Name _ftn1: 'План III'!#REF!
Name _ftn1: 'Раздел II'!#REF!
Name _ftn1: 'Шапка+Раздел I'!#REF!
Name _ftn2: 'План III'!#REF!
Name _ftn2: 'Раздел II'!#REF!
Name _ftn2: 'Шапка+Раздел I'!#REF!
Name _ftnref1: 'План III'!#REF!
Name _ftnref1: 'Раздел II'!#REF!
Name _ftnref1: 'Шапка+Раздел I'!#REF!
Name _ftnref2: 'План III'!#REF!
Name _ftnref2: 'Раздел II'!#REF!
Name _ftnref2: 'Шапка+Раздел I'!#REF!

Sheet Шапка+Раздел I
C1: Приложение
C2: к распоряжению Президиума РАН
C5: Приложение к Порядку составления и утверждения плана финансово-хозяйственной деятельности федеральных государственных бюджетных учреждений, подведомственных Российской академии наук
C7: "УТВЕРЖДАЮ"
C9: (наименование должности лица, утверждающего документ)
C10: _________________________________
G11: (подпись) (расшифровка подписи)
C12: "_______" | E12: 201___г.
A14: План финансово - хозяйственной деятельности
A15: на 201__ год
A17: "_______" | C17: 201___г.
A20: Наименование федерального государственного бюджетного учреждения (подразделения)
A22: ИНН / КПП
A23: Единица измерения: руб.
A24: Наименование органа, осуществляющего функции и полномочия учредителя | B24: Российская академия наук
A26: Адрес фактического местонахождения федерального государственного бюджетного учреждения (подразделения)
A28: I. Сведения о деятельности федерального государственного бюджетного учреждения
A30: 1.1. Цели деятельности федерального государственного бюджетного учреждения (подразделения):
A32: 1.2. Виды деятельности федерального государственного бюджетного учреждения (подразделения):
A34: 1.3. Перечень услуг (работ), осуществляемых на платной основе:

Sheet Раздел II
A1: II. Показатели финансового состояния учреждения
K2: в тыс. руб.
A5: Наименование показателя | F5: Код строки | G5: На начало года
G6: деятельность по оказанию услуг (выполнению работ) | I6: деятельность с целевыми средствами (квфо* 5) | J6: Инвестиции (квфо* 6) | K6: Итого
G7: за счет средств федерального бюджета (квфо* 4) | H7: за счет внебюд-жетных средств (квфо* 2)
A8: 1 | F8: 2 | G8: 3 | H8: 4 | I8: 5 | J8: 6 | K8: 7
A9: I. Нефинансовые активы
A10: Основные средства (балансовая стоимость, 010100000), всего | F10: 010
A11: в том числе:
A12: недвижимое имущество учреждения (010110000) | F12: 011
A13: особо ценное движимое имущество учреждения (010120000) | F13: 012
A14: иное движимое имущество учреждения (010130000) | F14: 013
A15: предметы лизинга (010140000) | F15: 014
A16: Амортизация основных средств | F16: 020
A17: в том числе:
A18: Амортизация недвижимого имущества учреждения (010410000) | F18: 021
A19: Амортизация особо ценного движимого имущества учреждения (010420000) | F19: 022
A20: Амортизация иного движимого имущества учреждения (010430000) | F20: 023
A21: Амортизация предметов лизинга (010440000) | F21: 024
A22: Основные средства (остаточная стоимость, стр. 010 - стр.020) | F22: 030
A23: из них:
A24: недвижимое имущество учреждения (остаточная стоимость, стр.011 - стр..021) | F24: 031
A25: особо ценное движимое имущество учреждения (остаточная стоимость, стр. 012 - стр. 022) | F25: 032
A26: иное движимое имущество учреждения (остаточная стоимость, стр. 013 - стр. 023) | F26: 033
A27: предметы лизинга (остаточная стоимость, стр. 014 - стр. 024) | F27: 034
A28: Нематериальные активы (балансовая стоимость, 010200000), всего | F28: 040
A29: из них:
A30: особо ценное движимое имущество учреждения (010220000) | F30: 041
A31: иное движимое имущество учреждения (010230000) | F31: 042
A32: предметы лизинга (010240000) | F32: 043
A33: Амортизация нематериальных активов | F33: 050
A34: из них:
A35: особо ценное движимое имущество учреждения (010429000) | F35: 051
A36: иное движимое имущество учреждения (010439000) | F36: 052
A37: предметы лизинга (010449000) | F37: 053
A38: Нематериальные активы (остаточная стоимость, стр. 040- стр. 050) | F38: 060
A39: из них:
A40: особо ценное движимое имущество учреждения (остаточная стоимость, стр. 041 - стр. 051) | F40: 061
A41: иное движимое имущество учреждения (остаточная стоимость, стр. 042 - стр. 052) | F41: 062
A42: предметы лизинга (остаточная стоимость, стр. 043 - стр. 053) | F42: 063
...

Sheet План III
A2: III. Показатели по поступлениям и выплатам учреждения
E3: в тыс. руб.
A4: Наименование показателя | B4: Код по бюджетной классификации операции сектора государственного управления | C4: Всего | D4: в том числе
D5: операции по лицевым счетам, открытым в органах Федерального казначейства | E5: операции по счетам, открытым в кредитных организациях в иностранной валюте
A6: 1 | B6: 2 | C6: 3 | D6: 4 | E6: 5
A7: Остаток средств на начало планируемого года, в том числе: | B7: Х
A8: Поступления, всего: | B8: Х
A9: в том числе: | B9: Х
A10: Субсидии на выполнении государственного задания **) | B10: 180
A11: Субсидии на иные цели | B11: 180
A12: Бюджетные инвестиции | B12: 180
A13: Поступления от государственных научных фондов | B13: 180
A14: Поступления от иной приносящей доход деятельности, всего: | B14: Х
A15: в том числе: | B15: Х
A16: от сдачи в аренду федерального имущества | B16: 120
A17: от заказчиков НИР и ОКР | B17: 130
A18: дивиденды | B18: 130
A19: поступления от реализации ценных бумаг | B19: 130
A20: …………………….
A21: Прочие поступления
A22: Остаток средств на конец планируемого года | B22: Х
E23: в тыс. руб.
A24: Наименование показателя | B24: Код по бюджетной классификации операции сектора государственного управления | C24: Всего | D24: операции по лицевым счетам, открытым в органах Федерального казначейства | E24: в том числе операции по счетам, открытым в кредитных организациях в иностранной валюте
A25: 1 | B25: 2 | C25: 3 | D25: 4 | E25: 5
A26: Выплаты, всего: | B26: 900 | C26: =D26+E26 -> 0 | D26: ='Таблица расшифровка расходов'!C12 -> 0
A27: в том числе:
A28: Оплата труда и начисления на выплаты по оплате труда, всего | B28: 210 | C28: =D28+E28 -> 0 | D28: ='Таблица расшифровка расходов'!C14 -> 0
A29: из них: | C29: =D29+E29 -> 0 | D29: ='Таблица расшифровка расходов'!C15 -> 0
A30: Заработная плата | B30: 211 | C30: =D30+E30 -> 0 | D30: ='Таблица расшифровка расходов'!C16 -> 0
A31: Прочие выплаты | B31: 212 | C31: =D31+E31 -> 0 | D31: ='Таблица расшифровка расходов'!C17 -> 0
A32: Начисления на выплаты по оплате труда | B32: 213 | C32: =D32+E32 -> 0 | D32: ='Таблица расшифровка расходов'!C18 -> 0
A33: Оплата работ, услуг, всего | B33: 220 | C33: =D33+E33 -> 0 | D33: ='Таблица расшифровка расходов'!C19 -> 0
A34: из них:
A35: Услуги связи | B35: 221 | C35: =D35+E35 -> 0 | D35: ='Таблица расшифровка расходов'!C21 -> 0
A36: Транспортные услуги | B36: 222 | C36: =D36+E36 -> 0 | D36: ='Таблица расшифровка расходов'!C22 -> 0
A37: Коммунальные услуги | B37: 223 | C37: =D37+E37 -> 0 | D37: ='Таблица расшифровка расходов'!C23 -> 0
A38: Арендная плата за пользование имуществом | B38: 224 | C38: =D38+E38 -> 0 | D38: ='Таблица расшифровка расходов'!C24 -> 0
A39: Работы, услуги по содержанию имущества | B39: 225 | C39: =D39+E39 -> 0 | D39: ='Таблица расшифровка расходов'!C25 -> 0
A40: Прочие работы, услуги | B40: 226 | C40: =D40+E40 -> 0 | D40: ='Таблица расшифровка расходов'!C26 -> 0
A41: Безвозмездные перечисления организациям, всего | B41: 240 | C41: =D41+E41 -> 0 | D41: ='Таблица расшифровка расходов'!C27 -> 0
...

Sheet Таблица расшифровка расходов
A1: Информация к III разделу Плана финансово - хозяйственной деятельности учреждения РАН
A2: на 2013 год | M2: Коды
A3: от "_____"___________________ 201__г. | L3: Дата
A4: Наименование федерального государственного бюджетного учреждения (подразделения) | L4: Код НУБП
Y5: в тыс. руб.
A6: Наименование показателя | B6: Код по бюджетной классификации операции сектора государственного управления | C6: Выплаты, всего | D6: в том числе
D7: операции по лицевым счетам, открытым в органах Федерального казначейства | Y7: Средства, оставшиеся в распоряжении учреждения после упалаты налога на прибыль
D8: Субсидии на выполнении государственного задания | G8: Субсидии на иные цели | J8: Бюджетные инвестиции | M8: Средства от приносящей доход деятельности | S8: из средств ОМС | V8: Средства во временном распоряжении
M9: Всего | P9: в том числе за счет средств от сдачи в аренду федерального имущества
D10: Всего | E10: Поступления планируемого года | F10: Остаток на начало планируемого года | G10: Всего | H10: Поступления планируемого года | I10: Остаток на начало планируемого года | J10: Всего | K10: Поступления планируемого года | L10: Остаток на начало планируемого года | M10: Всего | N10: Поступления планируемого года | O10: Остаток на начало планируемого года | P10: Всего | Q10: Поступления планируемого года | R10: Остаток на начало планируемого года | S10: Всего | T10: Поступления планируемого года | U10: Остаток на начало планируемого года | V10: Всего | W10: Поступления планируемого года | X10: Остаток на начало планируемого года
A11: 1 | B11: 2 | C11: 3 | D11: 4 | E11: 5 | F11: 6 | G11: 7 | H11: 8 | I11: 9 | J11: 10 | K11: 11 | L11: 12 | M11: 13 | N11: 14 | O11: 15 | P11: 16 | Q11: 17 | R11: 18 | S11: 19 | T11: 20 | U11: 21 | V11: 19 | W11: 20 | X11: 21 | Y11: 22
A12: Выплаты, всего: | B12: 900 | C12: =D12+G12+J12+M12+S12+V12+Y12 -> 0 | D12: =D14+D19+D27+D30+D33+D34+D40 -> 0 | E12: =E14+E19+E27+E30+E33+E34+E40 -> 0 | F12: =F14+F19+F27+F30+F33+F34+F40 -> 0 | G12: =G14+G19+G27+G30+G33+G34+G40 -> 0 | H12: =H14+H19+H27+H30+H33+H34+H40 -> 0 | I12: =I14+I19+I27+I30+I33+I34+I40 -> 0 | J12: =J14+J19+J27+J30+J33+J34+J40 -> 0 | K12: =K14+K19+K27+K30+K33+K34+K40 -> 0 | ... Y12: =Y14+Y19+Y27+Y30+Y33+Y34+Y40 -> 0
A13: в том числе:
A14: Оплата труда и начисления на выплаты по оплате труда, всего | B14: 210 | C14: =D14+G14+J14+M14+S14+V14+Y14 -> 0 | D14: =E14+F14 -> 0 | E14: =E16+E17+E18 -> 0 | F14: =F16+F17+F18 -> 0 | G14: =H14+I14 -> 0 | H14: =H16+H17+H18 -> 0 | I14: =I16+I17+I18 -> 0 | J14: =K14+L14 -> 0 | K14: =K16+K17+K18 -> 0 | L14: =L16+L17+L18 -> 0 | M14: =N14+O14 -> 0 | N14: =N16+N17+N18 -> 0 | O14: =O16+O17+O18 -> 0 | P14: =Q14+R14 -> 0 | Q14: =Q16+Q17+Q18 -> 0 | R14: =R16+R17+R18 -> 0 | S14: =T14+U14 -> 0 | T14: =T16+T17+T18 -> 0 | U14: =U16+U17+U18 -> 0 | V14: =W14+X14 -> 0 | W14: =W16+W17+W18 -> 0 | X14: =X16+X17+X18 -> 0 | Y14: =Y16+Y17+Y18 -> 0
A15: из них:
A16: Заработная плата | B16: 211 | C16: =D16+G16+J16+M16+S16+V16+Y16 -> 0 | D16: =E16+F16 -> 0 | G16: =H16+I16 -> 0 | J16: =K16+L16 -> 0 | M16: =N16+O16 -> 0 | P16: =Q16+R16 -> 0 | S16: =T16+U16 -> 0 | V16: =W16+X16 -> 0
A17: Прочие выплаты | B17: 212 | C17: =D17+G17+J17+M17+S17+V17+Y17 -> 0 | D17: =E17+F17 -> 0 | G17: =H17+I17 -> 0 | J17: =K17+L17 -> 0 | M17: =N17+O17 -> 0 | P17: =Q17+R17 -> 0 | S17: =T17+U17 -> 0 | V17: =W17+X17 -> 0
A18: Начисления на выплаты по оплате труда | B18: 213 | C18: =D18+G18+J18+M18+S18+V18+Y18 -> 0 | D18: =E18+F18 -> 0 | G18: =H18+I18 -> 0 | J18: =K18+L18 -> 0 | M18: =N18+O18 -> 0 | P18: =Q18+R18 -> 0 | S18: =T18+U18 -> 0 | V18: =W18+X18 -> 0
A19: Оплата работ, услуг, всего | B19: 220 | C19: =D19+G19+J19+M19+S19+V19+Y19 -> 0 | D19: =E19+F19 -> 0 | E19: =E21+E22+E23+E24+E25+E26 -> 0 | F19: =F21+F22+F23+F24+F25+F26 -> 0 | G19: =H19+I19 -> 0 | H19: =H21+H22+H23+H24+H25+H26 -> 0 | I19: =I21+I22+I23+I24+I25+I26 -> 0 | J19: =K19+L19 -> 0 | K19: =K21+K22+K23+K24+K25+K26 -> 0 | L19: =L21+L22+L23+L24+L25+L26 -> 0 | M19: =N19+O19 -> 0 | N19: =N21+N22+N23+N24+N25+N26 -> 0 | O19: =O21+O22+O23+O24+O25+O26 -> 0 | P19: =Q19+R19 -> 0 | Q19: =Q21+Q22+Q23+Q24+Q25+Q26 -> 0 | R19: =R21+R22+R23+R24+R25+R26 -> 0 | S19: =T19+U19 -> 0 | T19: =T21+T22+T23+T24+T25+T26 -> 0 | U19: =U21+U22+U23+U24+U25+U26 -> 0 | V19: =W19+X19 -> 0 | W19: =W21+W22+W23+W24+W25+W26 -> 0 | X19: =X21+X22+X23+X24+X25+X26 -> 0 | Y19: =Y21+Y22+Y23+Y24+Y25+Y26 -> 0
A20: из них:
A21: Услуги связи | B21: 221 | C21: =D21+G21+J21+M21+S21+V21+Y21 -> 0 | D21: =E21+F21 -> 0 | G21: =H21+I21 -> 0 | J21: =K21+L21 -> 0 | M21: =N21+O21 -> 0 | P21: =Q21+R21 -> 0 | S21: =T21+U21 -> 0 | V21: =W21+X21 -> 0
A22: Транспортные услуги | B22: 222 | C22: =D22+G22+J22+M22+S22+V22+Y22 -> 0 | D22: =E22+F22 -> 0 | G22: =H22+I22 -> 0 | J22: =K22+L22 -> 0 | M22: =N22+O22 -> 0 | P22: =Q22+R22 -> 0 | S22: =T22+U22 -> 0 | V22: =W22+X22 -> 0
A23: Коммунальные услуги | B23: 223 | C23: =D23+G23+J23+M23+S23+V23+Y23 -> 0 | D23: =E23+F23 -> 0 | G23: =H23+I23 -> 0 | J23: =K23+L23 -> 0 | M23: =N23+O23 -> 0 | P23: =Q23+R23 -> 0 | S23: =T23+U23 -> 0 | V23: =W23+X23 -> 0
A24: Арендная плата за пользование имуществом | B24: 224 | C24: =D24+G24+J24+M24+S24+V24+Y24 -> 0 | D24: =E24+F24 -> 0 | G24: =H24+I24 -> 0 | J24: =K24+L24 -> 0 | M24: =N24+O24 -> 0 | P24: =Q24+R24 -> 0 | S24: =T24+U24 -> 0 | V24: =W24+X24 -> 0
A25: Работы, услуги по содержанию имущества | B25: 225 | C25: =D25+G25+J25+M25+S25+V25+Y25 -> 0 | D25: =E25+F25 -> 0 | G25: =H25+I25 -> 0 | J25: =K25+L25 -> 0 | M25: =N25+O25 -> 0 | P25: =Q25+R25 -> 0 | S25: =T25+U25 -> 0 | V25: =W25+X25 -> 0
A26: Прочие работы, услуги | B26: 226 | C26: =D26+G26+J26+M26+S26+V26+Y26 -> 0 | D26: =E26+F26 -> 0 | G26: =H26+I26 -> 0 | J26: =K26+L26 -> 0 | M26: =N26+O26 -> 0 | P26: =Q26+R26 -> 0 | S26: =T26+U26 -> 0 | V26: =W26+X26 -> 0
A27: Безвозмездные перечисления организациям, всего | B27: 240 | C27: =D27+G27+J27+M27+S27+V27+Y27 -> 0 | D27: =E27+F27 -> 0 | E27: =E29 -> 0 | F27: =F29 -> 0 | G27: =H27+I27 -> 0 | H27: =H29 -> 0 | I27: =I29 -> 0 | J27: =K27+L27 -> 0 | K27: =K29 -> 0 | L27: =L29 -> 0 | M27: =N27+O27 -> 0 | N27: =N29 -> 0 | O27: =O29 -> 0 | P27: =Q27+R27 -> 0 | Q27: =Q29 -> 0 | R27: =R29 -> 0 | S27: =T27+U27 -> 0 | T27: =T29 -> 0 | U27: =U29 -> 0 | V27: =W27+X27 -> 0 | W27: =W29 -> 0 | X27: =X29 -> 0 | Y27: =Y29 -> 0
A28: из них:
A29: Безвозмездные перечисления государственным и муниципальным организациям | B29: 241 | C29: =D29+G29+J29+M29+S29+V29+Y29 -> 0 | D29: =E29+F29 -> 0 | G29: =H29+I29 -> 0 | J29: =K29+L29 -> 0 | M29: =N29+O29 -> 0 | P29: =Q29+R29 -> 0 | S29: =T29+U29 -> 0 | V29: =W29+X29 -> 0
A30: Социальное обеспечение, всего | B30: 260 | C30: =D30+G30+J30+M30+S30+V30+Y30 -> 0 | D30: =E30+F30 -> 0 | E30: =E32 -> 0 | F30: =F32 -> 0 | G30: =H30+I30 -> 0 | H30: =H32 -> 0 | I30: =I32 -> 0 | J30: =K30+L30 -> 0 | K30: =K32 -> 0 | L30: =L32 -> 0 | M30: =N30+O30 -> 0 | N30: =N32 -> 0 | O30: =O32 -> 0 | P30: =Q30+R30 -> 0 | Q30: =Q32 -> 0 | R30: =R32 -> 0 | S30: =T30+U30 -> 0 | T30: =T32 -> 0 | U30: =U32 -> 0 | V30: =W30+X30 -> 0 | W30: =W32 -> 0 | X30: =X32 -> 0 | Y30: =Y32 -> 0
A31: из них:
A32: Пособия по социальной помощи населению | B32: 262 | C32: =D32+G32+J32+M32+S32+V32+Y32 -> 0 | D32: =E32+F32 -> 0 | G32: =H32+I32 -> 0 | J32: =K32+L32 -> 0 | M32: =N32+O32 -> 0 | P32: =Q32+R32 -> 0 | S32: =T32+U32 -> 0 | V32: =W32+X32 -> 0
A33: Прочие расходы | B33: 290 | C33: =D33+G33+J33+M33+S33+V33+Y33 -> 0 | D33: =E33+F33 -> 0 | G33: =H33+I33 -> 0 | J33: =K33+L33 -> 0 | M33: =N33+O33 -> 0 | P33: =Q33+R33 -> 0 | S33: =T33+U33 -> 0 | V33: =W33+X33 -> 0
A34: Поступление нефинансовых активов, всего | B34: 300 | C34: =D34+G34+J34+M34+S34+V34+Y34 -> 0 | D34: =E34+F34 -> 0 | E34: =E36+E37+E38+E39 -> 0 | F34: =F36+F37+F38+F39 -> 0 | G34: =H34+I34 -> 0 | H34: =H36+H37+H38+H39 -> 0 | I34: =I36+I37+I38+I39 -> 0 | J34: =K34+L34 -> 0 | K34: =K36+K37+K38+K39 -> 0 | L34: =L36+L37+L38+L39 -> 0 | M34: =N34+O34 -> 0 | N34: =N36+N37+N38+N39 -> 0 | O34: =O36+O37+O38+O39 -> 0 | P34: =Q34+R34 -> 0 | Q34: =Q36+Q37+Q38+Q39 -> 0 | R34: =R36+R37+R38+R39 -> 0 | S34: =T34+U34 -> 0 | T34: =T36+T37+T38+T39 -> 0 | U34: =U36+U37+U38+U39 -> 0 | V34: =W34+X34 -> 0 | W34: =W36+W37+W38+W39 -> 0 | X34: =X36+X37+X38+X39 -> 0 | Y34: =Y36+Y37+Y38+Y39 -> 0
A35: из них: | C35: =D35+G35+J35+M35+S35+V35+Y35 -> 0
A36: Увеличение стоимости основных средств | B36: 310 | C36: =D36+G36+J36+M36+S36+V36+Y36 -> 0 | D36: =E36+F36 -> 0 | G36: =H36+I36 -> 0 | J36: =K36+L36 -> 0 | M36: =N36+O36 -> 0 | P36: =Q36+R36 -> 0 | S36: =T36+U36 -> 0 | V36: =W36+X36 -> 0
A37: Увеличение стоимости нематериальных активов | B37: 320 | C37: =D37+G37+J37+M37+S37+V37+Y37 -> 0 | D37: =E37+F37 -> 0 | G37: =H37+I37 -> 0 | J37: =K37+L37 -> 0 | M37: =N37+O37 -> 0 | P37: =Q37+R37 -> 0 | S37: =T37+U37 -> 0 | V37: =W37+X37 -> 0
A38: Увеличение стоимости непроизведенных активов | B38: 330 | C38: =D38+G38+J38+M38+S38+V38+Y38 -> 0 | D38: =E38+F38 -> 0 | G38: =H38+I38 -> 0 | J38: =K38+L38 -> 0 | M38: =N38+O38 -> 0 | P38: =Q38+R38 -> 0 | S38: =T38+U38 -> 0 | V38: =W38+X38 -> 0
A39: Увеличение стоимости материальных запасов | B39: 340 | C39: =D39+G39+J39+M39+S39+V39+Y39 -> 0 | D39: =E39+F39 -> 0 | G39: =H39+I39 -> 0 | J39: =K39+L39 -> 0 | M39: =N39+O39 -> 0 | P39: =Q39+R39 -> 0 | S39: =T39+U39 -> 0 | V39: =W39+X39 -> 0
A40: Поступление финансовых активов, всего | B40: 500 | C40: =D40+G40+J40+M40+S40+V40+Y40 -> 0 | D40: =E40+F40 -> 0 | E40: =E42+E43 -> 0 | F40: =F42+F43 -> 0 | G40: =H40+I40 -> 0 | H40: =H42+H43 -> 0 | I40: =I42+I43 -> 0 | J40: =K40+L40 -> 0 | K40: =K42+K43 -> 0 | L40: =L42+L43 -> 0 | M40: =N40+O40 -> 0 | N40: =N42+N43 -> 0 | O40: =O42+O43 -> 0 | P40: =Q40+R40 -> 0 | Q40: =Q42+Q43 -> 0 | R40: =R42+R43 -> 0 | S40: =T40+U40 -> 0 | T40: =T42+T43 -> 0 | U40: =U42+U43 -> 0 | V40: =W40+X40 -> 0 | W40: =W42+W43 -> 0 | X40: =X42+X43 -> 0 | Y40: =Y42+Y43 -> 0
...
